BEGIN:VCALENDAR
PRODID:-//Microsoft Corporation//Outlook 12.0 MIMEDIR//EN
VERSION:2.0
METHOD:PUBLISH
X-MS-OLK-FORCEINSPECTOROPEN:TRUE
BEGIN:VEVENT
CLASS:PUBLIC
CREATED:20260420T163637Z
DESCRIPTION:vets.org.il/index2.php?id=20102&lang=HEB
DTEND:20260515T171500
DTSTAMP:20260420T163637Z
DTSTART:20260515T081500
LAST-MODIFIED:20260420T163637Z
LOCATION:אולמות הרצאה בקיבוץ שפיים
PRIORITY:5
SEQUENCE:0
SUMMARY;LANGUAGE=he-il:כנס מאי 2026
TRANSP:OPAQUE
UID:040000008200E00074C5B7101A82E008000000008062306C6261CA01000000000000000
X-MICROSOFT-CDO-BUSYSTATUS:BUSY
X-MICROSOFT-CDO-IMPORTANCE:1
X-MICROSOFT-DISALLOW-COUNTER:FALSE
X-MS-OLK-ALLOWEXTERNCHECK:TRUE
X-MS-OLK-AUTOFILLLOCATION:FALSE
X-MS-OLK-CONFTYPE:0
END:VEVENT
BEGIN:VEVENT
CLASS:PUBLIC
CREATED:20260420T163637Z
DESCRIPTION:vets.org.il/index2.php?id=20102&lang=HEB
DTEND:20260516T171500
DTSTAMP:20260420T163637Z
DTSTART:20260516T081500
LAST-MODIFIED:20260420T163637Z
LOCATION:אולמות הרצאה בקיבוץ שפיים
PRIORITY:5
SEQUENCE:0
SUMMARY;LANGUAGE=he-il:כנס מאי 2026
TRANSP:OPAQUE
UID:040000008200E00074C5B7101A82E008000000008062306C6261CA01000000000000000
X-MICROSOFT-CDO-BUSYSTATUS:BUSY
X-MICROSOFT-CDO-IMPORTANCE:1
X-MICROSOFT-DISALLOW-COUNTER:FALSE
X-MS-OLK-ALLOWEXTERNCHECK:TRUE
X-MS-OLK-AUTOFILLLOCATION:FALSE
X-MS-OLK-CONFTYPE:0
END:VEVENT
END:VCALENDAR
